{"text_format":"1","workbook":"xlsx","n_sheets":1,"sheets":["Kalibrierung"],"not_rendered":{"charts":1,"images":0,"macros":1,"external_links":0,"defined_names":1,"comments":0,"pivot_tables":0},"unopened":[],"bounds":{"document_bytes":16777216,"sheet_cells":100000,"rows_first":2000,"rows_last":500,"rows_between":2000,"halvings":0,"cell_chars":16384,"cell_head_chars":4096},"cells_cut":0,"cells_raw":0,"read":"whole","date_system":"1900"}

{"sheet":"Kalibrierung","index":0,"n_rows":23,"n_cols":8,"rows_kept":23,"cut":false,"hidden":false,"merged":[[0,5,0,6],[0,7,0,13],[0,0,0,3]]}
["Calibration of the iSpindel",null,null,null,null,"Plato Formel:",null,"0.004636955*tilt^2 - 0.059010154*tilt - 0.062054841"]
[]
["Measured Angle (°)","Measured SG","Measured °Plato","Deviation °"]
[25.7,1.0009999999999999,{"$f":"(-1*616.868)+(1111.14*Kalibrierung!B4)-(630.272*Kalibrierung!B4^2)+(135.997*Kalibrierung!B4^3)","v":0.25536485499708306},{"$f":" IF( Table1[[#This Row],[Measured SG]] <>  \"\", Table1[[#This Row],[Measured °Plato]] - ( 0.004636955 * Table1[[#This Row],[Measured Angle (°)]] * Table1[[#This Row],[Measured Angle (°)]]  - 0.059010154 * Table1[[#This Row],[Measured Angle (°)]] - 0.062054841 ),\"\")","v":-1.2286817541529165}]
[27.7,1.0048024660799999,{"$f":"(-1*616.868)+(1111.14*Kalibrierung!B5)-(630.272*Kalibrierung!B5^2)+(135.997*Kalibrierung!B5^3)","v":1.2337437416484818},{"$f":" IF( Table1[[#This Row],[Measured SG]] <>  \"\", Table1[[#This Row],[Measured °Plato]] - ( 0.004636955 * Table1[[#This Row],[Measured Angle (°)]] * Table1[[#This Row],[Measured Angle (°)]]  - 0.059010154 * Table1[[#This Row],[Measured Angle (°)]] - 0.062054841 ),\"\")","v":-0.62750935350151837}]
[31.7,1.01139563504,{"$f":"(-1*616.868)+(1111.14*Kalibrierung!B6)-(630.272*Kalibrierung!B6^2)+(135.997*Kalibrierung!B6^3)","v":2.9150988109271054},{"$f":" IF( Table1[[#This Row],[Measured SG]] <>  \"\", Table1[[#This Row],[Measured °Plato]] - ( 0.004636955 * Table1[[#This Row],[Measured Angle (°)]] * Table1[[#This Row],[Measured Angle (°)]]  - 0.059010154 * Table1[[#This Row],[Measured Angle (°)]] - 0.062054841 ),\"\")","v":0.18814582377710565}]
[35.700000000000003,1.0169444264,{"$f":"(-1*616.868)+(1111.14*Kalibrierung!B7)-(630.272*Kalibrierung!B7^2)+(135.997*Kalibrierung!B7^3)","v":4.3154501164903252},{"$f":" IF( Table1[[#This Row],[Measured SG]] <>  \"\", Table1[[#This Row],[Measured °Plato]] - ( 0.004636955 * Table1[[#This Row],[Measured Angle (°)]] * Table1[[#This Row],[Measured Angle (°)]]  - 0.059010154 * Table1[[#This Row],[Measured Angle (°)]] - 0.062054841 ),\"\")","v":0.57441467734032425}]
[37.700000000000003,1.01944142048,{"$f":"(-1*616.868)+(1111.14*Kalibrierung!B8)-(630.272*Kalibrierung!B8^2)+(135.997*Kalibrierung!B8^3)","v":4.9412826481837158},{"$f":" IF( Table1[[#This Row],[Measured SG]] <>  \"\", Table1[[#This Row],[Measured °Plato]] - ( 0.004636955 * Table1[[#This Row],[Measured Angle (°)]] * Table1[[#This Row],[Measured Angle (°)]]  - 0.059010154 * Table1[[#This Row],[Measured Angle (°)]] - 0.062054841 ),\"\")","v":0.63756252303371497}]
[41.7,1.0241090854400001,{"$f":"(-1*616.868)+(1111.14*Kalibrierung!B9)-(630.272*Kalibrierung!B9^2)+(135.997*Kalibrierung!B9^3)","v":6.1040014644266307},{"$f":" IF( Table1[[#This Row],[Measured SG]] <>  \"\", Table1[[#This Row],[Measured °Plato]] - ( 0.004636955 * Table1[[#This Row],[Measured Angle (°)]] * Table1[[#This Row],[Measured Angle (°)]]  - 0.059010154 * Table1[[#This Row],[Measured Angle (°)]] - 0.062054841 ),\"\")","v":0.56362504727663065}]
[39.299999999999997,1.0213475377279999,{"$f":"(-1*616.868)+(1111.14*Kalibrierung!B10)-(630.272*Kalibrierung!B10^2)+(135.997*Kalibrierung!B10^3)","v":5.417221465561596},{"$f":" IF( Table1[[#This Row],[Measured SG]] <>  \"\", Table1[[#This Row],[Measured °Plato]] - ( 0.004636955 * Table1[[#This Row],[Measured Angle (°)]] * Table1[[#This Row],[Measured Angle (°)]]  - 0.059010154 * Table1[[#This Row],[Measured Angle (°)]] - 0.062054841 ),\"\")","v":0.63664473081159656}]
[41.3,1.023654221408,{"$f":"(-1*616.868)+(1111.14*Kalibrierung!B11)-(630.272*Kalibrierung!B11^2)+(135.997*Kalibrierung!B11^3)","v":5.9911029279181776},{"$f":" IF( Table1[[#This Row],[Measured SG]] <>  \"\", Table1[[#This Row],[Measured °Plato]] - ( 0.004636955 * Table1[[#This Row],[Measured Angle (°)]] * Table1[[#This Row],[Measured Angle (°)]]  - 0.059010154 * Table1[[#This Row],[Measured Angle (°)]] - 0.062054841 ),\"\")","v":0.5810693551681787}]
[43.3,1.0259191514879999,{"$f":"(-1*616.868)+(1111.14*Kalibrierung!B12)-(630.272*Kalibrierung!B12^2)+(135.997*Kalibrierung!B12^3)","v":6.552394767835807},{"$f":" IF( Table1[[#This Row],[Measured SG]] <>  \"\", Table1[[#This Row],[Measured °Plato]] - ( 0.004636955 * Table1[[#This Row],[Measured Angle (°)]] * Table1[[#This Row],[Measured Angle (°)]]  - 0.059010154 * Table1[[#This Row],[Measured Angle (°)]] - 0.062054841 ),\"\")","v":0.47580871708580919}]
[45.3,1.0281880239679999,{"$f":"(-1*616.868)+(1111.14*Kalibrierung!B13)-(630.272*Kalibrierung!B13^2)+(135.997*Kalibrierung!B13^3)","v":7.1124858719827273},{"$f":" IF( Table1[[#This Row],[Measured SG]] <>  \"\", Table1[[#This Row],[Measured °Plato]] - ( 0.004636955 * Table1[[#This Row],[Measured Angle (°)]] * Table1[[#This Row],[Measured Angle (°)]]  - 0.059010154 * Table1[[#This Row],[Measured Angle (°)]] - 0.062054841 ),\"\")","v":0.33225170323272923}]
[47.3,1.030506534848,{"$f":"(-1*616.868)+(1111.14*Kalibrierung!B14)-(630.272*Kalibrierung!B14^2)+(135.997*Kalibrierung!B14^3)","v":7.6825888826801645},{"$f":" IF( Table1[[#This Row],[Measured SG]] <>  \"\", Table1[[#This Row],[Measured °Plato]] - ( 0.004636955 * Table1[[#This Row],[Measured Angle (°)]] * Table1[[#This Row],[Measured Angle (°)]]  - 0.059010154 * Table1[[#This Row],[Measured Angle (°)]] - 0.062054841 ),\"\")","v":0.16161095593016661}]
[51.3,1.035475255808,{"$f":"(-1*616.868)+(1111.14*Kalibrierung!B15)-(630.272*Kalibrierung!B15^2)+(135.997*Kalibrierung!B15^3)","v":8.8967723578137168},{"$f":" IF( Table1[[#This Row],[Measured SG]] <>  \"\", Table1[[#This Row],[Measured °Plato]] - ( 0.004636955 * Table1[[#This Row],[Measured Angle (°)]] * Table1[[#This Row],[Measured Angle (°)]]  - 0.059010154 * Table1[[#This Row],[Measured Angle (°)]] - 0.062054841 ),\"\")","v":-0.216980004936282}]
[57.3,1.0444430252479999,{"$f":"(-1*616.868)+(1111.14*Kalibrierung!B16)-(630.272*Kalibrierung!B16^2)+(135.997*Kalibrierung!B16^3)","v":11.062281266301994},{"$f":" IF( Table1[[#This Row],[Measured SG]] <>  \"\", Table1[[#This Row],[Measured °Plato]] - ( 0.004636955 * Table1[[#This Row],[Measured Angle (°)]] * Table1[[#This Row],[Measured Angle (°)]]  - 0.059010154 * Table1[[#This Row],[Measured Angle (°)]] - 0.062054841 ),\"\")","v":-0.71885005044800288}]
[61.3,1.0519644502079999,{"$f":"(-1*616.868)+(1111.14*Kalibrierung!B17)-(630.272*Kalibrierung!B17^2)+(135.997*Kalibrierung!B17^3)","v":12.853188067703712},{"$f":" IF( Table1[[#This Row],[Measured SG]] <>  \"\", Table1[[#This Row],[Measured °Plato]] - ( 0.004636955 * Table1[[#This Row],[Measured Angle (°)]] * Table1[[#This Row],[Measured Angle (°)]]  - 0.059010154 * Table1[[#This Row],[Measured Angle (°)]] - 0.062054841 ),\"\")","v":-0.89167408504628298}]
[63.3,1.0563251242880001,{"$f":"(-1*616.868)+(1111.14*Kalibrierung!B18)-(630.272*Kalibrierung!B18^2)+(135.997*Kalibrierung!B18^3)","v":13.881055731648672},{"$f":" IF( Table1[[#This Row],[Measured SG]] <>  \"\", Table1[[#This Row],[Measured °Plato]] - ( 0.004636955 * Table1[[#This Row],[Measured Angle (°)]] * Table1[[#This Row],[Measured Angle (°)]]  - 0.059010154 * Table1[[#This Row],[Measured Angle (°)]] - 0.062054841 ),\"\")","v":-0.90131529910132535}]
[65.3,1.061146700768,{"$f":"(-1*616.868)+(1111.14*Kalibrierung!B19)-(630.272*Kalibrierung!B19^2)+(135.997*Kalibrierung!B19^3)","v":15.00874323655421},{"$f":" IF( Table1[[#This Row],[Measured SG]] <>  \"\", Table1[[#This Row],[Measured °Plato]] - ( 0.004636955 * Table1[[#This Row],[Measured Angle (°)]] * Table1[[#This Row],[Measured Angle (°)]]  - 0.059010154 * Table1[[#This Row],[Measured Angle (°)]] - 0.062054841 ),\"\")","v":-0.84823231219578865}]
[69.3,1.0723553449279999,{"$f":"(-1*616.868)+(1111.14*Kalibrierung!B20)-(630.272*Kalibrierung!B20^2)+(135.997*Kalibrierung!B20^3)","v":17.594960649248208},{"$f":" IF( Table1[[#This Row],[Measured SG]] <>  \"\", Table1[[#This Row],[Measured °Plato]] - ( 0.004636955 * Table1[[#This Row],[Measured Angle (°)]] * Table1[[#This Row],[Measured Angle (°)]]  - 0.059010154 * Table1[[#This Row],[Measured Angle (°)]] - 0.062054841 ),\"\")","v":-0.522510855501789}]
[75.3,1.0937674791679999,{"$f":"(-1*616.868)+(1111.14*Kalibrierung!B21)-(630.272*Kalibrierung!B21^2)+(135.997*Kalibrierung!B21^3)","v":22.401801739299003},{"$f":" IF( Table1[[#This Row],[Measured SG]] <>  \"\", Table1[[#This Row],[Measured °Plato]] - ( 0.004636955 * Table1[[#This Row],[Measured Angle (°)]] * Table1[[#This Row],[Measured Angle (°)]]  - 0.059010154 * Table1[[#This Row],[Measured Angle (°)]] - 0.062054841 ),\"\")","v":0.61536900054900201}]
[77.3,1.1023140860479999,{"$f":"(-1*616.868)+(1111.14*Kalibrierung!B22)-(630.272*Kalibrierung!B22^2)+(135.997*Kalibrierung!B22^3)","v":24.272875210270115},{"$f":" IF( Table1[[#This Row],[Measured SG]] <>  \"\", Table1[[#This Row],[Measured °Plato]] - ( 0.004636955 * Table1[[#This Row],[Measured Angle (°)]] * Table1[[#This Row],[Measured Angle (°)]]  - 0.059010154 * Table1[[#This Row],[Measured Angle (°)]] - 0.062054841 ),\"\")","v":1.1892641135201139}]
[null,null,null,""]